BEGIN:VCALENDAR
VERSION:2.0
PRODID:-//Javier Vilchez - ECPv4.6.10.1//NONSGML v1.0//EN
CALSCALE:GREGORIAN
METHOD:PUBLISH
X-WR-CALNAME:Javier Vilchez
X-ORIGINAL-URL:http://www.javiervilchez.com
X-WR-CALDESC:Events for Javier Vilchez
BEGIN:VEVENT
DTSTART;VALUE=DATE:20180531
DTEND;VALUE=DATE:20180604
DTSTAMP:20180627T222356
CREATED:20180117T164103Z
LAST-MODIFIED:20180117T164103Z
UID:2158-1527724800-1528070399@www.javiervilchez.com
SUMMARY:FESTIVO
DESCRIPTION:Cerrado por festivo \n
URL:http://www.javiervilchez.com/evento/festivo-3/
LOCATION:Calle San Marcos n.1\, Granada\, Granada\, 18005\, España
END:VEVENT
BEGIN:VEVENT
DTSTART;TZID=Europe/Madrid:20180615T180000
DTEND;TZID=Europe/Madrid:20180615T200000
DTSTAMP:20180627T222356
CREATED:20180117T120000Z
LAST-MODIFIED:20180407T101939Z
UID:2150-1529085600-1529092800@www.javiervilchez.com
SUMMARY:Taller de Marinados\, Ceviches y Tartares
DESCRIPTION:Taller de dos horas de duración\,  en el cual se aprenderán las diferentes técnicas del marinado de diferentes ingredientes\, tartár y técnicas de cocinado para los ceviches. Cursos de carácter presencial en formato clase magistral\, en los cuales se aprenden las diferentes técnicas\, elaboraciones\, historia y recetas de las variadas temáticas de cada taller. \n– Marinado del Salmón y otros pescados azules mediante salazón \n– Ingredientes de tartár base y variedades\, Steaktartar \n– Ceviche de pescado\, verduras y varidades: cítricos\, vinagres y especias \n
URL:http://www.javiervilchez.com/evento/taller-de-marinados-ceviches-y-tartares/
LOCATION:Calle San Marcos n.1\, Granada\, Granada\, 18005\, España
END:VEVENT
BEGIN:VEVENT
DTSTART;TZID=Europe/Madrid:20180616T103000
DTEND;TZID=Europe/Madrid:20180616T140000
DTSTAMP:20180627T222356
CREATED:20180117T120403Z
LAST-MODIFIED:20180406T174044Z
UID:2152-1529145000-1529157600@www.javiervilchez.com
SUMMARY:Monográfico: Cocina Japonesa
DESCRIPTION:Curso intensivo para conocer la cocina nipona en el cual se realiza una parte de conocimiento del sushi\, arroz\, corte del pescado\, rellenos y técnicas para maki\, niguiri etc…  y otros platos típicos. \n
URL:http://www.javiervilchez.com/evento/monografico-cocina-japonesa-3/
LOCATION:Calle San Marcos n.1\, Granada\, Granada\, 18005\, España
END:VEVENT
BEGIN:VEVENT
DTSTART;TZID=Europe/Madrid:20180622T180000
DTEND;TZID=Europe/Madrid:20180622T200000
DTSTAMP:20180627T222356
CREATED:20160504T183313Z
LAST-MODIFIED:20180407T101716Z
UID:1663-1529690400-1529697600@www.javiervilchez.com
SUMMARY:Taller Gazpachos\, Salmorejos y Sopas frias
DESCRIPTION:  \nTaller de dos horas de duración\, en el cual se realizarán diferentes elaboraciones para confeccionar gazpachos\, salmorejos y  sopas frías.Cursos de carácter presencial en formato clase magistral\, en los cuales se aprenden las diferentes técnicas\, elaboraciones\, historia y recetas de las variadas temáticas de cada taller. \n– Gazpacho y salmorejo tradicional \n– Gazpachos y salmorejos creativos \n–  Sopas frías de verdura y fruta \n
URL:http://www.javiervilchez.com/evento/taller-gazpachos/
LOCATION:Calle San Marcos n.1\, Granada\, Granada\, 18005\, España
ATTACH;FMTTYPE=image/jpeg:http://www.javiervilchez.com/wp-content/uploads/2013/04/sopas-frias.jpg
END:VEVENT
BEGIN:VEVENT
DTSTART;TZID=Europe/Madrid:20180623T103000
DTEND;TZID=Europe/Madrid:20180623T140000
DTSTAMP:20180627T222356
CREATED:20180117T120608Z
LAST-MODIFIED:20180407T102419Z
UID:2154-1529749800-1529762400@www.javiervilchez.com
SUMMARY:Monográfico: Cocina rápida y sana
DESCRIPTION:Curso para aprender a elaborar diferentes recetas rápidas y saludables para el verano. Técnicas de cocinado saludables\, ingredientes y elaboraciones creativas pero sin exceso de calorías. \n\nENSALADA HINDÚ DE ARROZ y APIO\nFALSA MORCILLA DE BERENJENA CON PIÑONES y PASAS / CHORICITOS LIGEROS DE POLLO\nPECHUGA A LA SAL CON GUARNICIÓN ESTILO CÉSAR\nSARDINAS RELLENAS DE HONGOS AL PAPILLOTE\nDULCE DE CÍTRICOS\nTÉCNICAS DE COCINADO SALUDABLES\nINGREDIENTES LIGEROS y SANOS\n\n
URL:http://www.javiervilchez.com/evento/monografico-cocina-rapida-y-sana/
LOCATION:Calle San Marcos n.1\, Granada\, Granada\, 18005\, España
END:VEVENT
BEGIN:VEVENT
DTSTART;TZID=Europe/Madrid:20180625T180000
DTEND;TZID=Europe/Madrid:20180625T193000
DTSTAMP:20180627T222356
CREATED:20150902T114834Z
LAST-MODIFIED:20180406T173315Z
UID:1341-1529949600-1529955000@www.javiervilchez.com
SUMMARY:Cocina básica
DESCRIPTION:Hoy termina el curso. Siguiente Trimestral de Septiembre a Diciembre. Consulta la nueva programación en la Web \n
URL:http://www.javiervilchez.com/evento/trimestral-cocina-basica-9/
LOCATION:Calle San Marcos n.1\, Granada\, Granada\, 18005\, España
END:VEVENT
BEGIN:VEVENT
DTSTART;TZID=Europe/Madrid:20180625T200000
DTEND;TZID=Europe/Madrid:20180625T213000
DTSTAMP:20180627T222356
CREATED:20160314T183349Z
LAST-MODIFIED:20180406T172717Z
UID:1596-1529956800-1529962200@www.javiervilchez.com
SUMMARY:Cocina Avanzada
DESCRIPTION:Hoy termina el curso. Siguiente trimestral de Septiembre a Diciembre. Consulta la nueva programación en la Web \n
URL:http://www.javiervilchez.com/evento/cocina-basica-10/
LOCATION:Calle San Marcos n.1\, Granada\, Granada\, 18005\, España
END:VEVENT
BEGIN:VEVENT
DTSTART;TZID=Europe/Madrid:20180626T180000
DTEND;TZID=Europe/Madrid:20180626T200000
DTSTAMP:20180627T222356
CREATED:20160314T174652Z
LAST-MODIFIED:20180406T172955Z
UID:1584-1530036000-1530043200@www.javiervilchez.com
SUMMARY:Cocina Elaborada
DESCRIPTION:Hoy termina el curso. Siguiente Trimestral de Septiembre a Diciembre. Consulta la nueva programación en la Web \n
URL:http://www.javiervilchez.com/evento/cocina-elaborada-10/
LOCATION:Calle San Marcos n.1\, Granada\, Granada\, 18005\, España
END:VEVENT
BEGIN:VEVENT
DTSTART;TZID=Europe/Madrid:20180626T203000
DTEND;TZID=Europe/Madrid:20180626T220000
DTSTAMP:20180627T222356
CREATED:20170911T182035Z
LAST-MODIFIED:20180406T172154Z
UID:2032-1530045000-1530050400@www.javiervilchez.com
SUMMARY:Cocina básica
DESCRIPTION:Hoy termina el curso. Siguiente trimestral de Septiembre a Diciembre. Consulta la nueva programación en la Web \n
URL:http://www.javiervilchez.com/evento/trimestral-cocina-basica-19/
LOCATION:Calle San Marcos n.1\, Granada\, Granada\, 18005\, España
END:VEVENT
BEGIN:VEVENT
DTSTART;TZID=Europe/Madrid:20180628T180000
DTEND;TZID=Europe/Madrid:20180628T200000
DTSTAMP:20180627T222356
CREATED:20160314T174300Z
LAST-MODIFIED:20180406T173103Z
UID:1583-1530208800-1530216000@www.javiervilchez.com
SUMMARY:Cocina Elaborada
DESCRIPTION:Hoy termina el curso. Siguiente trimestral de Septiembre a Diciembre. Consulta la nueva programación en la Web \n
URL:http://www.javiervilchez.com/evento/cocina-elaborada-9/
LOCATION:Calle San Marcos n.1\, Granada\, Granada\, 18005\, España
END:VEVENT
BEGIN:VEVENT
DTSTART;TZID=Europe/Madrid:20180628T203000
DTEND;TZID=Europe/Madrid:20180628T220000
DTSTAMP:20180627T222356
CREATED:20170911T181742Z
LAST-MODIFIED:20180406T173716Z
UID:2030-1530217800-1530223200@www.javiervilchez.com
SUMMARY:Cocina básica
DESCRIPTION:Hoy termina el curso. Siguiente trimestral de Septiembre a Diciembre. Consulta la nueva programación en la Web \n
URL:http://www.javiervilchez.com/evento/trimestral-cocina-basica-17/
LOCATION:Calle San Marcos n.1\, Granada\, Granada\, 18005\, España
END:VEVENT
END:VCALENDAR